BEGIN:VCALENDAR
VERSION:2.0
PRODID:-//wp-events-plugin.com//7.2.3.1//EN
TZID:America/Los_Angeles
X-WR-TIMEZONE:America/Los_Angeles
BEGIN:VEVENT
UID:250@km-synagogue.org
DTSTART;TZID=America/Los_Angeles:20210609T190000
DTEND;TZID=America/Los_Angeles:20210609T200000
DTSTAMP:20210608T222340Z
URL:https://www.km-synagogue.org/events/annual-meeting/
SUMMARY:KM Annual Meeting
DESCRIPTION:&nbsp\;\nJOIN THE MEETING VIA ZOOM\n&nbsp\;\nEach year\, we cal
 l the Congregation together to reflect and give thanks for the year that w
 as\, and to conduct essential synagogue business. But we also see this as 
 an opportunity\, especially this year\, to share our visions and thoughts 
 for the future.&nbsp\;We welcome all voices!\n&nbsp\;\nPer Kehillat Ma'ara
 v's bylaws\, a quorum must be present to call a vote. Your attendance is g
 reatly appreciated.\n&nbsp\;\nAgenda and slate of nominees is available he
 re.\n&nbsp\;\nQuestions?&nbsp\;\nContact&nbsp\;Samuel Levitt\, President\,
  or&nbsp\;Kate Flanagan\, Executive Director
ATTACH;FMTTYPE=image/jpeg:https://www.km-synagogue.org/wp-content/uploads/
 2021/06/annualmeetingTV.jpg
END:VEVENT
BEGIN:VTIMEZONE
TZID:America/Los_Angeles
X-LIC-LOCATION:America/Los_Angeles
BEGIN:DAYLIGHT
DTSTART:20210314T030000
TZOFFSETFROM:-0800
TZOFFSETTO:-0700
TZNAME:PDT
END:DAYLIGHT
END:VTIMEZONE
END:VCALENDAR