BEGIN:VCALENDAR
VERSION:2.0
PRODID:-//wp-events-plugin.com//7.2.3.1//EN
TZID:America/Los_Angeles
X-WR-TIMEZONE:America/Los_Angeles
BEGIN:VEVENT
UID:585@km-synagogue.org
DTSTART;TZID=America/Los_Angeles:20231105T140000
DTEND;TZID=America/Los_Angeles:20231105T153000
DTSTAMP:20231025T001401Z
URL:https://www.km-synagogue.org/events/km-mishkon-tephilo-team-up-hunger-
 walk/
SUMMARY:KM & Mishkon Tephilo Team Up: Hunger Walk
DESCRIPTION:KM &amp\; Mishkon Tephilo join forces for WESTSIDE FOOD BANK HU
 NGER WALK\nCheck-in begins: 12:00 p.m.\nPre-walk festivities: 1:00&nbsp\;p
 .m.\n5K walk starts: 2:00 p.m.\nBeach Bash After-Party: 3:30 p.m.\n“Shul
 s United!” On November 5\, Kehillat Ma’arav will join forces with our 
 longtime shul-friends at Mishkon Tephilo for the Westside Food Bank Hunger
  Walk.\nEarlier this fall\, our religious schools came together under our 
 newly minted BAYIT program\, and so this is a fantastic opportunity for AL
 L of our families to participate in meaningful social action – tikkun ol
 am – as one community.\nThis event will raise awareness about food insec
 urity in L.A. The Hunger Walk begins and ends at&nbsp\;Ocean View Park&nbs
 p\;with pre-walk festivities beginning at 1 p.m. and a beach bash after-pa
 rty starting at 3:30 p.m.\nJoin our team to walk or donate to this great c
 ause to help make a difference in our community!\nREGISTER OR DONATE HERE
ATTACH;FMTTYPE=image/jpeg:https://www.km-synagogue.org/wp-content/uploads/
 2023/10/Screenshot-2023-10-24-at-2.47.21-PM.png
LOCATION:Ocean View Park\, 2701 Barnard Way\, Santa Monica\, CA\, 90405\, U
 nited States
X-APPLE-STRUCTURED-LOCATION;VALUE=URI;X-ADDRESS=2701 Barnard Way\, Santa Mo
 nica\, CA\, 90405\, United States;X-APPLE-RADIUS=100;X-TITLE=Ocean View Pa
 rk:geo:0,0
END:VEVENT
BEGIN:VTIMEZONE
TZID:America/Los_Angeles
X-LIC-LOCATION:America/Los_Angeles
BEGIN:STANDARD
DTSTART:20231105T010000
TZOFFSETFROM:-0700
TZOFFSETTO:-0800
TZNAME:PST
END:STANDARD
END:VTIMEZONE
END:VCALENDAR