BEGIN:VCALENDAR
VERSION:2.0
PRODID:-//wp-events-plugin.com//7.2.3.1//EN
TZID:America/Los_Angeles
X-WR-TIMEZONE:America/Los_Angeles
BEGIN:VEVENT
UID:471@km-synagogue.org
DTSTART;TZID=America/Los_Angeles;VALUE=DATE:20230611
DTEND;TZID=America/Los_Angeles;VALUE=DATE:20230620
DTSTAMP:20230323T182231Z
URL:https://www.km-synagogue.org/events/kms-trip-to-morocco-with-rabbi-got
 lieb/
SUMMARY:KM'S TRIP TO MOROCCO WITH RABBI GOTLIEB
DESCRIPTION:&nbsp\;\n\nCLICK HERE FOR ITINERARY AND APPLICATION\n\nYou need
  not be a KM member to join the trip--join us! This exciting adventure ent
 ails one of the world's most beautiful and historic places and alongside R
 abbi Gotlieb!\n\n
ATTACH;FMTTYPE=image/jpeg:https://www.km-synagogue.org/wp-content/uploads/
 2023/01/Screen-Shot-2023-01-27-at-1.14.26-PM.png
END:VEVENT
BEGIN:VTIMEZONE
TZID:America/Los_Angeles
X-LIC-LOCATION:America/Los_Angeles
BEGIN:DAYLIGHT
DTSTART:20230312T030000
TZOFFSETFROM:-0800
TZOFFSETTO:-0700
TZNAME:PDT
END:DAYLIGHT
END:VTIMEZONE
END:VCALENDAR