BEGIN:VCALENDAR
VERSION:2.0
PRODID:-//wp-events-plugin.com//7.2.3.1//EN
TZID:America/Los_Angeles
X-WR-TIMEZONE:America/Los_Angeles
BEGIN:VEVENT
UID:228@km-synagogue.org
DTSTART;TZID=America/Los_Angeles:20210327T180000
DTEND;TZID=America/Los_Angeles:20210327T213000
DTSTAMP:20210328T022000Z
URL:https://www.km-synagogue.org/events/passover-first-night-seder/
SUMMARY:Passover - Community Seder
DESCRIPTION:JOIN THE EVENT ON ZOOM
ATTACH;FMTTYPE=image/jpeg:https://www.km-synagogue.org/wp-content/uploads/
 2021/03/KM-SederVirtualTVGEN.jpg
END:VEVENT
BEGIN:VTIMEZONE
TZID:America/Los_Angeles
X-LIC-LOCATION:America/Los_Angeles
BEGIN:DAYLIGHT
DTSTART:20210314T030000
TZOFFSETFROM:-0800
TZOFFSETTO:-0700
TZNAME:PDT
END:DAYLIGHT
END:VTIMEZONE
END:VCALENDAR