BEGIN:VCALENDAR
VERSION:2.0
PRODID:-//wp-events-plugin.com//7.2.3.1//EN
TZID:America/Los_Angeles
X-WR-TIMEZONE:America/Los_Angeles
BEGIN:VEVENT
UID:503@km-synagogue.org
DTSTART;TZID=America/Los_Angeles:20230527T100000
DTEND;TZID=America/Los_Angeles:20230527T120000
DTSTAMP:20230519T205312Z
URL:https://www.km-synagogue.org/events/shabbat-shavuot-morning-services-w
 ith-yizkor/
SUMMARY:Shabbat/Shavuot (Day 2) Morning Services with Yizkor
DESCRIPTION:Join us in-person at KM:\n\nThis service will be followed by a 
 festive and celebratory dairy kiddush. Please RSVP to let us know if you p
 lan to join us for kiddush!\nOR&nbsp\; join the service via Zoom with link
  below:\nhttps://us02web.zoom.us/j/85620295412?pwd=QWY0TmxISTJMVC9PV3Z4U1l
 Wam9oZz09\nMeeting ID: 856 2029 5412\nPasscode: SHABBATAM\n&nbsp\;\n&nbsp\
 ;
ATTACH;FMTTYPE=image/jpeg:https://www.km-synagogue.org/wp-content/uploads/
 2020/06/KM-ShabbatServicesTV2.jpg
LOCATION:Kehillat Ma'arav\, 1715 21st St\, Santa Monica\, CA\, 90404\, 2GFG
 +XH Santa Monica\, California\, United States
X-APPLE-STRUCTURED-LOCATION;VALUE=URI;X-ADDRESS=1715 21st St\, Santa Monica
 \, CA\, 90404\, 2GFG+XH Santa Monica\, California\, United States;X-APPLE-
 RADIUS=100;X-TITLE=Kehillat Ma'arav:geo:0,0
END:VEVENT
BEGIN:VTIMEZONE
TZID:America/Los_Angeles
X-LIC-LOCATION:America/Los_Angeles
BEGIN:DAYLIGHT
DTSTART:20230312T030000
TZOFFSETFROM:-0800
TZOFFSETTO:-0700
TZNAME:PDT
END:DAYLIGHT
END:VTIMEZONE
END:VCALENDAR