BEGIN:VCALENDAR
VERSION:2.0
PRODID:-//wp-events-plugin.com//7.2.3.1//EN
TZID:America/Los_Angeles
X-WR-TIMEZONE:America/Los_Angeles
BEGIN:VEVENT
UID:348@km-synagogue.org
DTSTART;TZID=America/Los_Angeles:20220911T160000
DTEND;TZID=America/Los_Angeles:20220911T180000
DTSTAMP:20220824T201407Z
URL:https://www.km-synagogue.org/events/wine-tasting/
SUMMARY:Wine Tasting
DESCRIPTION:This exciting event is hosted by Lew &amp\; Eileen Goldberg's\n
 DIVINE WINE CORP. SPECIALTY CELLARS.\nPlease join us for a taste of Sparkl
 ing\, Rose\, Whites and Reds.\nCheese and crackers will be provided.\nTick
 ets: KM Members - $10/person\; Non-Members $20/person\n\nCLICK HERE TO RSV
 P!\n\n&nbsp\;\n\n&nbsp\;GUIDELINES FOR IN-PERSON EVENTS\n\nAll participant
 s at a Kehillat Ma’arav program\, event\, or worship service who are age
  5 and over:\n\nMust provide proof of full vaccination (prescribed regimen
 )\, or proof of a negative COVID test (from within 24 hours for a rapid an
 tigen test or 48 hours for a PCR test).\n\nMasking both indoors and outdoo
 rs is now optional\, but strongly recommended.\n\nIf you have not already 
 provided your proof of vaccination\, please do so by clicking here.
ATTACH;FMTTYPE=image/jpeg:https://www.km-synagogue.org/wp-content/uploads/
 2022/08/MensClub_WineTastingTV3.jpg
END:VEVENT
BEGIN:VTIMEZONE
TZID:America/Los_Angeles
X-LIC-LOCATION:America/Los_Angeles
BEGIN:DAYLIGHT
DTSTART:20220313T030000
TZOFFSETFROM:-0800
TZOFFSETTO:-0700
TZNAME:PDT
END:DAYLIGHT
END:VTIMEZONE
END:VCALENDAR