BEGIN:VCALENDAR
VERSION:2.0
PRODID:-//wp-events-plugin.com//7.2.3.1//EN
TZID:America/Los_Angeles
X-WR-TIMEZONE:America/Los_Angeles
BEGIN:VEVENT
UID:483@km-synagogue.org
DTSTART;TZID=America/Los_Angeles:20230423T140000
DTEND;TZID=America/Los_Angeles:20230423T160000
DTSTAMP:20230331T215159Z
URL:https://www.km-synagogue.org/events/yom-haatzmaut-celebration/
SUMMARY:Yom Ha'atzmaut Celebration
DESCRIPTION:&nbsp\;\n\nCLICK HERE TO RSVP\n\nIsrael is turning 75 and we ar
 e excited to celebrate with you! We're hosting an afternoon filled with ac
 tivities for all ages. Come out to enjoy live music from the band Mostly K
 osher\, food\, games\, arts and crafts\, and much more! No charge for this
  event. All are welcome. Please RSVP in advance.
ATTACH;FMTTYPE=image/jpeg:https://www.km-synagogue.org/wp-content/uploads/
 2023/03/YomHaatzmaut2023TV2.jpg
LOCATION:Kehillat Ma'arav\, 1715 21st St\, Santa Monica\, CA\, 90404\, 2GFG
 +XH Santa Monica\, California\, United States
X-APPLE-STRUCTURED-LOCATION;VALUE=URI;X-ADDRESS=1715 21st St\, Santa Monica
 \, CA\, 90404\, 2GFG+XH Santa Monica\, California\, United States;X-APPLE-
 RADIUS=100;X-TITLE=Kehillat Ma'arav:geo:0,0
END:VEVENT
BEGIN:VTIMEZONE
TZID:America/Los_Angeles
X-LIC-LOCATION:America/Los_Angeles
BEGIN:DAYLIGHT
DTSTART:20230312T030000
TZOFFSETFROM:-0800
TZOFFSETTO:-0700
TZNAME:PDT
END:DAYLIGHT
END:VTIMEZONE
END:VCALENDAR